Workbook

Sheet CH1 - Counting
A1: Monitoring Sheet for Four Students (Tier 2 Intervention) | C1: Intervention Intervention requires four, ten-minute sessions a week. • Sessions 1, 2 and 3 are on the activity that is the focus of the week. Record the dates of these sessions next to the activity in the first three columns. • Session 4 is a review of previously completed activity. Record the dates of these sessions next to the activity in the fourth column. • Enter the date each time an activity is practised. (dd/mm/yy) Achievement Record student achievement for this activity using: • 0 (red) if the student required significant support, • 1 (orange) if they required some support or, • 2 (green) if they completed it independently. Note, shaded rows are not core activities. They are either “a little easier” or “a little harder”. These activities will only be completed by some students at the discretion of the teacher. Boards with ".1" or ".2" next to the main number represent related boards that share the same number. These are both core activity boards but contain different sections. To unlock the sheet go to the "Home" tab, the "cells" subsection, "format" and select "unprotect sheet".
E3: <Student Name Here> | J3: <Student Name Here> | O3: <Student Name Here> | T3: <Student Name Here>
B4: Chapter 1: Counting | E4: 1 | F4: 2 | G4: 3 | H4: A | I4: R | J4: 1 | K4: 2 | L4: 3 | M4: A | N4: R | O4: 1 | P4: 2 | Q4: 3 | R4: A | S4: R | T4: 1 | U4: 2 | V4: 3 | W4: A | X4: R
A5: 1 | B5: Forwards 1 to 10: Building Steps
A6: 1* | B6: Forwards 10 to 20: Building Steps (a little harder)
A7: 2 | B7: Number After: Greater Number
A8: 2* | B8: Number After: Greater Number (a little harder)
A9: 3 | B9: Backwards 10 to 1: Building Steps
A10: 3* | B10: Backwards 20 to 10: Building Steps (a little harder)
A11: 4 | B11: Number Before: Lesser Number
A12: 4* | B12: Number Before: Lesser Number (a little harder)
A13: 5* | B13: Identifying Numbers 1 to 5: Building Steps (a little easier)
A14: 5 | B14: Identifying Numbers 1 to 5: Building Steps
B15: Comments

Sheet CH2 - Bonds of 5
A1: Monitoring Sheet for Four Students (Tier 2 Intervention) | C1: Intervention Intervention requires four, ten-minute sessions a week. • Sessions 1, 2 and 3 are on the activity that is the focus of the week. Record the dates of these sessions next to the activity in the first three columns. • Session 4 is a review of previously completed activity. Record the dates of these sessions next to the activity in the fourth column. • Enter the date each time an activity is practised. (dd/mm/yy) Achievement Record student achievement for this activity using: • 0 (red) if the student required significant support, • 1 (orange) if they required some support or, • 2 (green) if they completed it independently. Note, shaded rows are not core activities. They are either “a little easier” or “a little harder”. These activities will only be completed by some students at the discretion of the teacher. Boards with ".1" or ".2" next to the main number represent related boards that share the same number. These are both core activity boards but contain different sections. To unlock the sheet go to the "Home" tab, the "cells" subsection, "format" and select "unprotect sheet".
E3: ='CH1 - Counting'!E3 -> <Student Name Here> | J3: ='CH1 - Counting'!J3 -> <Student Name Here> | O3: ='CH1 - Counting'!O3 -> <Student Name Here> | T3: ='CH1 - Counting'!T3 -> <Student Name Here>
B4: Chapter 2: Bonds of 5 | E4: 1 | F4: 2 | G4: 3 | H4: A | I4: R | J4: 1 | K4: 2 | L4: 3 | M4: A | N4: R | O4: 1 | P4: 2 | Q4: 3 | R4: A | S4: R | T4: 1 | U4: 2 | V4: 3 | W4: A | X4: R
A5: 6 | B5: Bonds: Building a Wall (Section 1)
A6: 6 | B6: Bonds: Building a Wall (Section 2)
A7: 6 | B7: Bonds: Building a Wall (Section 3)
A8: 7 | B8: Fluency: Filling a Wall
A9: 8 | B9: Fluency: Tic-Tac-Toe
A10: 9 | B10: Fluency: Racing Cars
A11: 10 | B11: Addition: Building a Wall
A12: 11 | B12: Subtraction: Building a Wall
A13: 12* | B13: Equation: Building (a little easier)
A14: 12 | B14: Equation: Building
A15: 13* | B15: Missing Number Equations: Fill a Row (a little easier)
A16: 13 | B16: Missing Number Equations: Three In a Row
A17: 13* | B17: Missing Number Equations: Tic-Tac-Toc (a little harder)
A18: 14 | B18: Representing Addition: Thinkboard
A19: 14 | B19: Representing Subtraction: Thinkboard
A20: 15 | B20: Word Problems: Whole to 5
B21: Comments

Sheet CH3 - Double & Halve to 10
A1: Monitoring Sheet for Four Students (Tier 2 Intervention) | C1: Intervention Intervention requires four, ten-minute sessions a week. • Sessions 1, 2 and 3 are on the activity that is the focus of the week. Record the dates of these sessions next to the activity in the first three columns. • Session 4 is a review of previously completed activity. Record the dates of these sessions next to the activity in the fourth column. • Enter the date each time an activity is practised. (dd/mm/yy) Achievement Record student achievement for this activity using: • 0 (red) if the student required significant support, • 1 (orange) if they required some support or, • 2 (green) if they completed it independently. Note, shaded rows are not core activities. They are either “a little easier” or “a little harder”. These activities will only be completed by some students at the discretion of the teacher. Boards with ".1" or ".2" next to the main number represent related boards that share the same number. These are both core activity boards but contain different sections. To unlock the sheet go to the "Home" tab, the "cells" subsection, "format" and select "unprotect sheet".
E3: ='CH1 - Counting'!E3 -> <Student Name Here> | J3: ='CH1 - Counting'!J3 -> <Student Name Here> | O3: ='CH1 - Counting'!O3 -> <Student Name Here> | T3: ='CH1 - Counting'!T3 -> <Student Name Here>
B4: Chapter 3: Double and Halve to 10 | E4: 1 | F4: 2 | G4: 3 | H4: A | I4: R | J4: 1 | K4: 2 | L4: 3 | M4: A | N4: R | O4: 1 | P4: 2 | Q4: 3 | R4: A | S4: R | T4: 1 | U4: 2 | V4: 3 | W4: A | X4: R
A5: 16.1 | B5: Bonds: Building a Wall (Section 1)
A6: 16.2 | B6: Bonds: Building a Wall (Section 2)
A7: 17 | B7: Fluency Doubles: Filling a Wall
A8: 18 | B8: Fluency Halves: Filling a Wall
A9: 19 | B9: Near Double: Strategy Concept
A10: 19* | B10: Near Double: Strategy Concept (a little harder)
A11: 20 | B11: Near Double: Strategy Fluency
B12: Comments

Sheet CH4 - Five Plus Bonds
A1: Monitoring Sheet for Four Students (Tier 2 Intervention) | C1: Intervention Intervention requires four, ten-minute sessions a week. • Sessions 1, 2 and 3 are on the activity that is the focus of the week. Record the dates of these sessions next to the activity in the first three columns. • Session 4 is a review of previously completed activity. Record the dates of these sessions next to the activity in the fourth column. • Enter the date each time an activity is practised. (dd/mm/yy) Achievement Record student achievement for this activity using: • 0 (red) if the student required significant support, • 1 (orange) if they required some support or, • 2 (green) if they completed it independently. Note, shaded rows are not core activities. They are either “a little easier” or “a little harder”. These activities will only be completed by some students at the discretion of the teacher. Boards with ".1" or ".2" next to the main number represent related boards that share the same number. These are both core activity boards but contain different sections. To unlock the sheet go to the "Home" tab, the "cells" subsection, "format" and select "unprotect sheet".
E3: ='CH1 - Counting'!E3 -> <Student Name Here> | J3: ='CH1 - Counting'!J3 -> <Student Name Here> | O3: ='CH1 - Counting'!O3 -> <Student Name Here> | T3: ='CH1 - Counting'!T3 -> <Student Name Here>
B4: Chapter 4: Five Plus Bonds | E4: 1 | F4: 2 | G4: 3 | H4: A | I4: R | J4: 1 | K4: 2 | L4: 3 | M4: A | N4: R | O4: 1 | P4: 2 | Q4: 3 | R4: A | S4: R | T4: 1 | U4: 2 | V4: 3 | W4: A | X4: R
A5: 21.1 | B5: Bonds: Building a Wall (Section 1)
A6: 21.2 | B6: Bonds: Building a Wall (Section 2)
A7: 22 | B7: Bonds: Multiple Representation
A8: 23 | B8: Fluency: Tic-Tac-Toe
A9: 24 | B9: Addition: Building a Wall
A10: 25 | B10: Subtraction: Building a Wall
B11: Comments

Sheet CH5 - Bonds of 10
A1: Monitoring Sheet for Four Students (Tier 2 Intervention) | C1: Intervention Intervention requires four, ten-minute sessions a week. • Sessions 1, 2 and 3 are on the activity that is the focus of the week. Record the dates of these sessions next to the activity in the first three columns. • Session 4 is a review of previously completed activity. Record the dates of these sessions next to the activity in the fourth column. • Enter the date each time an activity is practised. (dd/mm/yy) Achievement Record student achievement for this activity using: • 0 (red) if the student required significant support, • 1 (orange) if they required some support or, • 2 (green) if they completed it independently. Note, shaded rows are not core activities. They are either “a little easier” or “a little harder”. These activities will only be completed by some students at the discretion of the teacher. Boards with ".1" or ".2" next to the main number represent related boards that share the same number. These are both core activity boards but contain different sections. To unlock the sheet go to the "Home" tab, the "cells" subsection, "format" and select "unprotect sheet".
E3: ='CH1 - Counting'!E3 -> <Student Name Here> | J3: ='CH1 - Counting'!J3 -> <Student Name Here> | O3: ='CH1 - Counting'!O3 -> <Student Name Here> | T3: ='CH1 - Counting'!T3 -> <Student Name Here>
B4: Chapter 5: Bonds of 10 | E4: 1 | F4: 2 | G4: 3 | H4: A | I4: R | J4: 1 | K4: 2 | L4: 3 | M4: A | N4: R | O4: 1 | P4: 2 | Q4: 3 | R4: A | S4: R | T4: 1 | U4: 2 | V4: 3 | W4: A | X4: R
A5: 26.1 | B5: Bonds: Building a Wall (Section 1)
A6: 26.1 | B6: Bonds: Building a Wall (Section 2)
A7: 26.2 | B7: Bonds: Building a Wall (Section 3)
A8: 27 | B8: Fluency: Filling a Wall
A9: 28 | B9: Fluency: Tic-Tac-Toe
A10: 29 | B10: Addition: Building a Wall
A11: 30 | B11: Subtraction: Building a Wall
A12: 31* | B12: Equation: Building (a little easier)
A13: 31 | B13: Equation: Building
A14: 32 | B14: Missing Number Equations: Fill a Row
A15: 32* | B15: Missing Number Equations: Tic-Tac-Toe (a little harder)
A16: 33 | B16: Representing Addition: Thinkboard
A17: 33 | B17: Representing Subtraction: Thinkboard
B18: Comments

Sheet CH6 - Bonds of 6 and 7
A1: Monitoring Sheet for Four Students (Tier 2 Intervention) | C1: Intervention Intervention requires four, ten-minute sessions a week. • Sessions 1, 2 and 3 are on the activity that is the focus of the week. Record the dates of these sessions next to the activity in the first three columns. • Session 4 is a review of previously completed activity. Record the dates of these sessions next to the activity in the fourth column. • Enter the date each time an activity is practised. (dd/mm/yy) Achievement Record student achievement for this activity using: • 0 (red) if the student required significant support, • 1 (orange) if they required some support or, • 2 (green) if they completed it independently. Note, shaded rows are not core activities. They are either “a little easier” or “a little harder”. These activities will only be completed by some students at the discretion of the teacher. Boards with ".1" or ".2" next to the main number represent related boards that share the same number. These are both core activity boards but contain different sections. To unlock the sheet go to the "Home" tab, the "cells" subsection, "format" and select "unprotect sheet".
E3: ='CH1 - Counting'!E3 -> <Student Name Here> | J3: ='CH1 - Counting'!J3 -> <Student Name Here> | O3: ='CH1 - Counting'!O3 -> <Student Name Here> | T3: ='CH1 - Counting'!T3 -> <Student Name Here>
B4: Chapter 6: Bonds of 6 and 7 | E4: 1 | F4: 2 | G4: 3 | H4: A | I4: R | J4: 1 | K4: 2 | L4: 3 | M4: A | N4: R | O4: 1 | P4: 2 | Q4: 3 | R4: A | S4: R | T4: 1 | U4: 2 | V4: 3 | W4: A | X4: R
A5: 34 | B5: Bonds of 6 - Building a Wall (Section 1)
A6: 34 | B6: Bonds of 6 - Bonds: Building a Wall (Section 2)
A7: 34 | B7: Bonds of 6 - Bonds: Building a Wall (Section 3)
A8: 36 | B8: Fluency: Shake and Spill
A9: 34 | B9: Bonds of 7 - Building a Wall (Section 1)
A10: 34 | B10: Bonds of 7 - Bonds: Building a Wall (Section 2)
A11: 34 | B11: Bonds of 7 - Bonds: Building a Wall (Section 3)
A12: 35.1 | B12: Subtraction: Building a Wall (Section 1) Bonds of 6
A13: 37 | B13: Fluency: Racing Monster Trucks
A14: 35.2 | B14: Subtraction: Building a Wall (Section 2) Bonds of 7
A15: 38 | B15: Equation: Building Bonds of 6
A16: 39 | B16: Missing Number Equations: Tic-Tac-Toe Bonds of 6
A17: 38 | B17: Equation: Building Bonds of 7
A18: 39 | B18: Missing Number Equations: Tic-Tac-Toe Bonds of 7
A19: 40 | B19: Word Problems: Wholes to 10 Cards 1 and 2, Questions 1 to 6
B20: Comments

Sheet CH7 - Ten Plus Bonds (41-49)
A1: Monitoring Sheet for Four Students (Tier 2 Intervention) | C1: Intervention Intervention requires four, ten-minute sessions a week. • Sessions 1, 2 and 3 are on the activity that is the focus of the week. Record the dates of these sessions next to the activity in the first three columns. • Session 4 is a review of previously completed activity. Record the dates of these sessions next to the activity in the fourth column. • Enter the date each time an activity is practised. (dd/mm/yy) Achievement Record student achievement for this activity using: • 0 (red) if the student required significant support, • 1 (orange) if they required some support or, • 2 (green) if they completed it independently. Note, shaded rows are not core activities. They are either “a little easier” or “a little harder”. These activities will only be completed by some students at the discretion of the teacher. Boards with ".1" or ".2" next to the main number represent related boards that share the same number. These are both core activity boards but contain different sections. To unlock the sheet go to the "Home" tab, the "cells" subsection, "format" and select "unprotect sheet".
E3: ='CH1 - Counting'!E3 -> <Student Name Here> | J3: ='CH1 - Counting'!J3 -> <Student Name Here> | O3: ='CH1 - Counting'!O3 -> <Student Name Here> | T3: ='CH1 - Counting'!T3 -> <Student Name Here>
B4: Chapter 7: Ten Plus Bonds (Bonds to 20) | E4: 1 | F4: 2 | G4: 3 | H4: A | I4: R | J4: 1 | K4: 2 | L4: 3 | M4: A | N4: R | O4: 1 | P4: 2 | Q4: 3 | R4: A | S4: R | T4: 1 | U4: 2 | V4: 3 | W4: A | X4: R
A5: 41 | B5: Bonds: Three In a Row
A6: 42 | B6: Bonds: Multiple Representations
A7: 43 | B7: Bonds: Place Value Partitioning
A8: 44 | B8: Addition and Subtraction: Ten and One
A9: 45 | B9: Addition: Building With Three Parts
A10: 46.1 | B10: Equation: Building (Section 1)
A11: 46.2 | B11: Equation: Building (Section 2)
A12: 47 | B12: Addition: Building a Wall
A13: 48.1 | B13: Subtraction: Tic-Tac-Toe (Section 1)
A14: 48.2 | B14: Subtraction: Tic-Tac-Toe (Section 2)
A15: 49 | B15: Missing Number Equations: Tic-Tac-Toe
A16: 49* | B16: Missing Number Equations: Tic-Tac-Toe (a little harder)
B17: Comments

Sheet CH6 - Bonds of 8 and 9
A1: Monitoring Sheet for Four Students (Tier 2 Intervention) | C1: Intervention Intervention requires four, ten-minute sessions a week. • Sessions 1, 2 and 3 are on the activity that is the focus of the week. Record the dates of these sessions next to the activity in the first three columns. • Session 4 is a review of previously completed activity. Record the dates of these sessions next to the activity in the fourth column. • Enter the date each time an activity is practised. (dd/mm/yy) Achievement Record student achievement for this activity using: • 0 (red) if the student required significant support, • 1 (orange) if they required some support or, • 2 (green) if they completed it independently. Note, shaded rows are not core activities. They are either “a little easier” or “a little harder”. These activities will only be completed by some students at the discretion of the teacher. Boards with ".1" or ".2" next to the main number represent related boards that share the same number. These are both core activity boards but contain different sections. To unlock the sheet go to the "Home" tab, the "cells" subsection, "format" and select "unprotect sheet".
E3: ='CH1 - Counting'!E3 -> <Student Name Here> | J3: ='CH1 - Counting'!J3 -> <Student Name Here> | O3: ='CH1 - Counting'!O3 -> <Student Name Here> | T3: ='CH1 - Counting'!T3 -> <Student Name Here>
B4: Chapter 6: Bonds of 8 and 9 | E4: 1 | F4: 2 | G4: 3 | H4: A | I4: R | J4: 1 | K4: 2 | L4: 3 | M4: A | N4: R | O4: 1 | P4: 2 | Q4: 3 | R4: A | S4: R | T4: 1 | U4: 2 | V4: 3 | W4: A | X4: R
A5: 34 | B5: Bonds of 8 - Building a Wall (Section 1)
A6: 34 | B6: Bonds of 8 - Bonds: Building a Wall (Section 2)
A7: 34 | B7: Bonds of 8 - Bonds: Building a Wall (Section 3)
A8: 36 | B8: Fluency: Shake and Spill
A9: 34 | B9: Bonds of 9 - Building a Wall (Section 1)
A10: 34 | B10: Bonds of 9 - Bonds: Building a Wall (Section 2)
A11: 34 | B11: Bonds of 9 - Bonds: Building a Wall (Section 3)
A12: 35.1 | B12: Subtraction: Building a Wall (Section 1) Bonds of 8
A13: 37 | B13: Fluency: Racing Monster Trucks
A14: 35.2 | B14: Subtraction: Building a Wall (Section 2) Bonds of 9
A15: 38 | B15: Equation: Building Bonds of 8
A16: 39 | B16: Missing Number Equations: Tic-Tac-Toe Bonds of 8
A17: 38 | B17: Equation: Building Bonds of 9
A18: 39 | B18: Missing Number Equations: Tic-Tac-Toe Bonds of 9
A19: 40 | B19: Word Problems: Wholes to 10 Cards 3 and 4, Questions 7 to 12
B20: Comments

Sheet CH7 - Ten Plus Bonds (50-56)
A1: Monitoring Sheet for Four Students (Tier 2 Intervention) | C1: Intervention Intervention requires four, ten-minute sessions a week. • Sessions 1, 2 and 3 are on the activity that is the focus of the week. Record the dates of these sessions next to the activity in the first three columns. • Session 4 is a review of previously completed activity. Record the dates of these sessions next to the activity in the fourth column. • Enter the date each time an activity is practised. (dd/mm/yy) Achievement Record student achievement for this activity using: • 0 (red) if the student required significant support, • 1 (orange) if they required some support or, • 2 (green) if they completed it independently. Note, shaded rows are not core activities. They are either “a little easier” or “a little harder”. These activities will only be completed by some students at the discretion of the teacher. Boards with ".1" or ".2" next to the main number represent related boards that share the same number. These are both core activity boards but contain different sections. To unlock the sheet go to the "Home" tab, the "cells" subsection, "format" and select "unprotect sheet".
E3: ='CH1 - Counting'!E3 -> <Student Name Here> | J3: ='CH1 - Counting'!J3 -> <Student Name Here> | O3: ='CH1 - Counting'!O3 -> <Student Name Here> | T3: ='CH1 - Counting'!T3 -> <Student Name Here>
B4: Chapter 7: Ten Plus Bonds (Bridging Ten) | E4: 1 | F4: 2 | G4: 3 | H4: A | I4: R | J4: 1 | K4: 2 | L4: 3 | M4: A | N4: R | O4: 1 | P4: 2 | Q4: 3 | R4: A | S4: R | T4: 1 | U4: 2 | V4: 3 | W4: A | X4: R
A5: 50 | B5: Bridging Ten Addition: Strategy 9+
A6: 50* | B6: Bridging Ten Addition: Strategy 19+ (a little harder)
A7: 51 | B7: Bridging Ten Addition: Strategy 8+
A8: 51* | B8: Bridging Ten Addition: Strategy 18+ (a little harder)
A9: 52 | B9: Bridging Ten Addition: Strategy 7, 8, 9+
A10: 52* | B10: Bridging Ten Addition: Strategy Teen+ (a little harder)
A11: 53 | B11: Bridging Ten Subtraction: Strategy Taking Away
A12: 53* | B12: Bridging Ten Subtraction: Strategy Taking Away (a little harder)
A13: 54 | B13: Bridging Ten Subtraction: Strategy Adding On
A14: 54* | B14: Bridging Ten Subtraction: Strategy Adding On (a little harder)
A15: 55 | B15: Partitioning Addition: Strategy Five Plus Bonds
A16: 55* | B16: Partitioning Addition: Strategy Five Plus Bonds (a little harder)
A17: 56 | B17: Partitioning Subtraction: Strategy Five Plus Bonds
A18: 56* | B18: Partitioning Subtraction: Strategy Five Plus Bonds (a little harder)
B19: Comments

Sheet CH8 - Double and Halve to 20
A1: Monitoring Sheet for Four Students (Tier 2 Intervention) | C1: Intervention Intervention requires four, ten-minute sessions a week. • Sessions 1, 2 and 3 are on the activity that is the focus of the week. Record the dates of these sessions next to the activity in the first three columns. • Session 4 is a review of previously completed activity. Record the dates of these sessions next to the activity in the fourth column. • Enter the date each time an activity is practised. (dd/mm/yy) Achievement Record student achievement for this activity using: • 0 (red) if the student required significant support, • 1 (orange) if they required some support or, • 2 (green) if they completed it independently. Note, shaded rows are not core activities. They are either “a little easier” or “a little harder”. These activities will only be completed by some students at the discretion of the teacher. Boards with ".1" or ".2" next to the main number represent related boards that share the same number. These are both core activity boards but contain different sections. To unlock the sheet go to the "Home" tab, the "cells" subsection, "format" and select "unprotect sheet".
E3: ='CH1 - Counting'!E3 -> <Student Name Here> | J3: ='CH1 - Counting'!J3 -> <Student Name Here> | O3: ='CH1 - Counting'!O3 -> <Student Name Here> | T3: ='CH1 - Counting'!T3 -> <Student Name Here>
B4: Chapter 8: Double and Halve to 20 | E4: 1 | F4: 2 | G4: 3 | H4: A | I4: R | J4: 1 | K4: 2 | L4: 3 | M4: A | N4: R | O4: 1 | P4: 2 | Q4: 3 | R4: A | S4: R | T4: 1 | U4: 2 | V4: 3 | W4: A | X4: R
A5: 57.1 | B5: Bonds: Building a Wall (Section 1)
A6: 57.2 | B6: Bonds: Building a Wall (Section 2)
A7: 58 | B7: Fluency Doubles: Filling a Wall
A8: 59 | B8: Fluency Halves: Filling a Wall
A9: 60 | B9: Fluency Doubles: Racing Kayaks
A10: 61 | B10: Fluency Halves: Racing Snowboards
A11: 62 | B11: Near Double: Strategy Concept
A12: 62* | B12: Near Double: Strategy Concept (a little harder)
A13: 63 | B13: Near Double: Strategy Fluency
B14: Comments

Sheet CH9 - Bonds of 11 to 20
A1: Monitoring Sheet for Four Students (Tier 2 Intervention) | C1: Intervention Intervention requires four, ten-minute sessions a week. • Sessions 1, 2 and 3 are on the activity that is the focus of the week. Record the dates of these sessions next to the activity in the first three columns. • Session 4 is a review of previously completed activity. Record the dates of these sessions next to the activity in the fourth column. • Enter the date each time an activity is practised. (dd/mm/yy) Achievement Record student achievement for this activity using: • 0 (red) if the student required significant support, • 1 (orange) if they required some support or, • 2 (green) if they completed it independently. Note, shaded rows are not core activities. They are either “a little easier” or “a little harder”. These activities will only be completed by some students at the discretion of the teacher. Boards with ".1" or ".2" next to the main number represent related boards that share the same number. These are both core activity boards but contain different sections. To unlock the sheet go to the "Home" tab, the "cells" subsection, "format" and select "unprotect sheet".
E3: ='CH1 - Counting'!E3 -> <Student Name Here> | J3: ='CH1 - Counting'!J3 -> <Student Name Here> | O3: ='CH1 - Counting'!O3 -> <Student Name Here> | T3: ='CH1 - Counting'!T3 -> <Student Name Here>
B4: Chapter 9: Bonds of 11 to 20 | E4: 1 | F4: 2 | G4: 3 | H4: A | I4: R | J4: 1 | K4: 2 | L4: 3 | M4: A | N4: R | O4: 1 | P4: 2 | Q4: 3 | R4: A | S4: R | T4: 1 | U4: 2 | V4: 3 | W4: A | X4: R
A5: 64 | B5: Addition: Lulu
A6: 65 | B6: Subtraction: Difference
A7: 66 | B7: Equation: Building (Set A)
A8: 67 | B8: Missing Number Equations: Racing Motorcycles
A9: 66 | B9: Equation: Building (Set B)
A10: 68 | B10: Word Problems: Wholes to 20 Cards 1 and 2, Questions 1 to 6
A11: 69 | B11: Near Ten: Strategy +9
A12: 69* | B12: Near Ten: Strategy +9 (a little harder)
A13: 70 | B13: Near Ten: Strategy -11
A14: 70* | B14: Near Ten: Strategy -11 (a little harder)
A15: 71 | B15: Near Ten: Strategy -9
A16: 71* | B16: Near Ten: Strategy -9 (a little harder)
A17: 68 | B17: Word Problems: Wholes to 20 Cards 3 and 4, Questions 7 to 12
B18: Comments
