Workbook

Sheet Pre-Test
C1: Western Australian Curriculum 2026 | F1: Foundation | G1: Total | H1: Year 1 | L1: Total | M1: Year 2 | W1: Total | X1: Year 3 | AC1: Total | AD1: Student Total
C2: Bond Blocks Test: Addition and Subtraction to 20 Pre-Test Key: Place a 0, 1 or 2 in the cell to indicate the following. Blank = not tested. 0 = Incorrect or no response. 1 = Correct response but not fluent. Includes counting. 2 = Correct, fluent response. To unlock the sheet go to the "Home" tab, the "cells" subsection, "format" and select "unprotect sheet". | F2: 1) Counting Activity | H2: 2) Bonds of 5 | J2: 3) Double and Halve to 10 | K2: 4) Five Plus Bonds | M2: 5) Bonds of 10 | P2: 6) Bonds of 6, 7, 8, 9 | T2: 7) Ten Plus Bonds | X2: 8) Double and Halve to 20 | AA2: 9) Bonds of 11 to 20
F3: □, 8, 9 | H3: 5 - 3 = | I3: □ + 2 = 5 | J3: One half of 6 | K3: 8 - 5 = | M3: □ + 4 = 10 | N3: 10 - 7 = | O3: 10 - □ = 2 | P3: 6 - 4 = | Q3: 7 - 5 = | R3: □ + 5 = 8 | S3: □ - 6 = 3 | T3: 3 + □ = 13 | U3: □ - 6 = 10 | V3: 14 - 8 = | X3: Double 7 | Y3: One half of 16 | Z3: Double 9 | AA3: 13 - 8= | AB3: □ - 7 = 8
A4: # | B4: Surname | C4: First Name | D4: Class | E4: Date | F4: Q1 | G4: x/2 | H4: Q2 | I4: Q3 | J4: Q4 | K4: Q5 | L4: x/8 | M4: Q6 | N4: Q7 | O4: Q8 | P4: Q9 | Q4: Q10 | R4: Q11 | S4: Q12 | T4: Q13 | U4: Q14 | V4: Q15 | W4: x/20 | X4: Q16 | Y4: Q17 | Z4: Q18 | AA4: Q19 | AB4: Q20 | AC4: x/10 | AD4: x/40
A5: 1 | E5: dd/mm/yy | G5: =SUM(F5) -> 0 | L5: =SUM(H5:K5) -> 0 | W5: =SUM(M5:V5) -> 0 | AC5: =SUM(X5:AB5) -> 0 | AD5: =SUM(G5,L5,W5,AC5) -> 0
A6: 2 | E6: dd/mm/yy | G6: =SUM(F6) -> 0 | L6: =SUM(H6:K6) -> 0 | W6: =SUM(M6:V6) -> 0 | AC6: =SUM(X6:AB6) -> 0 | AD6: =SUM(G6,L6,W6,AC6) -> 0
A7: 3 | E7: dd/mm/yy | G7: =SUM(F7) -> 0 | L7: =SUM(H7:K7) -> 0 | W7: =SUM(M7:V7) -> 0 | AC7: =SUM(X7:AB7) -> 0 | AD7: =SUM(G7,L7,W7,AC7) -> 0
A8: 4 | E8: dd/mm/yy | G8: =SUM(F8) -> 0 | L8: =SUM(H8:K8) -> 0 | W8: =SUM(M8:V8) -> 0 | AC8: =SUM(X8:AB8) -> 0 | AD8: =SUM(G8,L8,W8,AC8) -> 0
A9: 5 | E9: dd/mm/yy | G9: =SUM(F9) -> 0 | L9: =SUM(H9:K9) -> 0 | W9: =SUM(M9:V9) -> 0 | AC9: =SUM(X9:AB9) -> 0 | AD9: =SUM(G9,L9,W9,AC9) -> 0
A10: 6 | E10: dd/mm/yy | G10: =SUM(F10) -> 0 | L10: =SUM(H10:K10) -> 0 | W10: =SUM(M10:V10) -> 0 | AC10: =SUM(X10:AB10) -> 0 | AD10: =SUM(G10,L10,W10,AC10) -> 0
A11: 7 | E11: dd/mm/yy | G11: =SUM(F11) -> 0 | L11: =SUM(H11:K11) -> 0 | W11: =SUM(M11:V11) -> 0 | AC11: =SUM(X11:AB11) -> 0 | AD11: =SUM(G11,L11,W11,AC11) -> 0
A12: 8 | E12: dd/mm/yy | G12: =SUM(F12) -> 0 | L12: =SUM(H12:K12) -> 0 | W12: =SUM(M12:V12) -> 0 | AC12: =SUM(X12:AB12) -> 0 | AD12: =SUM(G12,L12,W12,AC12) -> 0
A13: 9 | E13: dd/mm/yy | G13: =SUM(F13) -> 0 | L13: =SUM(H13:K13) -> 0 | W13: =SUM(M13:V13) -> 0 | AC13: =SUM(X13:AB13) -> 0 | AD13: =SUM(G13,L13,W13,AC13) -> 0
A14: 10 | E14: dd/mm/yy | G14: =SUM(F14) -> 0 | L14: =SUM(H14:K14) -> 0 | W14: =SUM(M14:V14) -> 0 | AC14: =SUM(X14:AB14) -> 0 | AD14: =SUM(G14,L14,W14,AC14) -> 0
A15: 11 | E15: dd/mm/yy | G15: =SUM(F15) -> 0 | L15: =SUM(H15:K15) -> 0 | W15: =SUM(M15:V15) -> 0 | AC15: =SUM(X15:AB15) -> 0 | AD15: =SUM(G15,L15,W15,AC15) -> 0
A16: 12 | E16: dd/mm/yy | G16: =SUM(F16) -> 0 | L16: =SUM(H16:K16) -> 0 | W16: =SUM(M16:V16) -> 0 | AC16: =SUM(X16:AB16) -> 0 | AD16: =SUM(G16,L16,W16,AC16) -> 0
... A34: 30 | E34: dd/mm/yy | G34: =SUM(F34) -> 0 | L34: =SUM(H34:K34) -> 0 | W34: =SUM(M34:V34) -> 0 | AC34: =SUM(X34:AB34) -> 0 | AD34: =SUM(G34,L34,W34,AC34) -> 0
E35: Cohort Total | F35: =SUM(F5:F34) -> 0 | H35: =SUM(H5:H34) -> 0 | I35: =SUM(I5:I34) -> 0 | J35: =SUM(J5:J34) -> 0 | K35: =SUM(K5:K34) -> 0 | M35: =SUM(M5:M34) -> 0 | N35: =SUM(N5:N34) -> 0 | O35: =SUM(O5:O34) -> 0 | P35: =SUM(P5:P34) -> 0 | Q35: =SUM(Q5:Q34) -> 0 | R35: =SUM(R5:R34) -> 0 | S35: =SUM(S5:S34) -> 0 | T35: =SUM(T5:T34) -> 0 | ... V35: =SUM(V5:V34) -> 0 | X35: =SUM(X5:X34) -> 0 | Y35: =SUM(Y5:Y34) -> 0 | Z35: =SUM(Z5:Z34) -> 0 | AA35: =SUM(AA5:AA34) -> 0 | AB35: =SUM(AB5:AB34) -> 0

Sheet Post Test 1
C1: Western Australian Curriculum 2026 | F1: Foundation | G1: Total | H1: Year 1 | L1: Total | M1: Year 2 | W1: Total | X1: Year 3 | AC1: Total | AD1: Student Total | AE1: Progress Points
C2: Bond Blocks Test: Addition and Subtraction to 20 Post Test 1 Key: Place a 0, 1 or 2 in the cell to indicate the following. Blank = not tested. 0 = Incorrect or no response. 1 = Correct response but not fluent. Includes counting. 2 = Correct, fluent response. To unlock the sheet go to the "Home" tab, the "cells" subsection, "format" and select "unprotect sheet". | F2: 1) Counting Activity | H2: 2) Bonds of 5 | J2: 3) Double and Halve to 10 | K2: 4) Five Plus Bonds | M2: 5) Bonds of 10 | P2: 6) Bonds of 6, 7, 8, 9 | T2: 7) Ten Plus Bonds | X2: 8) Double and Halve to 20 | AA2: 9) Bonds of 11 to 20
F3: □, 8, 9 | H3: 5 - 3 = | I3: □ + 2 = 5 | J3: One half of 6 | K3: 8 - 5 = | M3: □ + 4 = 10 | N3: 10 - 7 = | O3: 10 - □ = 2 | P3: 6 - 4 = | Q3: 7 - 5 = | R3: □ + 5 = 8 | S3: □ - 6 = 3 | T3: 3 + □ = 13 | U3: □ - 6 = 10 | V3: 14 - 8 = | X3: Double 7 | Y3: One half of 16 | Z3: Double 9 | AA3: 13 - 8= | AB3: □ - 7 = 8
A4: # | B4: Surname | C4: First Name | D4: Class | E4: Date | F4: Q1 | G4: x/2 | H4: Q2 | I4: Q3 | J4: Q4 | K4: Q5 | L4: x/8 | M4: Q6 | N4: Q7 | O4: Q8 | P4: Q9 | Q4: Q10 | R4: Q11 | S4: Q12 | T4: Q13 | U4: Q14 | V4: Q15 | W4: x/20 | X4: Q16 | Y4: Q17 | Z4: Q18 | AA4: Q19 | AB4: Q20 | AC4: x/10 | AD4: x/40
A5: 1 | B5: ='Pre-Test'!B5 -> 0 | C5: ='Pre-Test'!C5 -> 0 | D5: ='Pre-Test'!D5 -> 0 | E5: dd/mm/yy | G5: =SUM(F5) -> 0 | L5: =SUM(H5:K5) -> 0 | W5: =SUM(M5:V5) -> 0 | AC5: =SUM(X5:AB5) -> 0 | AD5: =SUM(G5,L5,W5,AC5) -> 0 | AE5: =SUM(AD5-'Pre-Test'!AD5) -> 0
A6: 2 | B6: ='Pre-Test'!B6 -> 0 | C6: ='Pre-Test'!C6 -> 0 | D6: ='Pre-Test'!D6 -> 0 | E6: dd/mm/yy | G6: =SUM(F6) -> 0 | L6: =SUM(H6:K6) -> 0 | W6: =SUM(M6:V6) -> 0 | AC6: =SUM(X6:AB6) -> 0 | AD6: =SUM(G6,L6,W6,AC6) -> 0 | AE6: =SUM(AD6-'Pre-Test'!AD6) -> 0
A7: 3 | B7: ='Pre-Test'!B7 -> 0 | C7: ='Pre-Test'!C7 -> 0 | D7: ='Pre-Test'!D7 -> 0 | E7: dd/mm/yy | G7: =SUM(F7) -> 0 | L7: =SUM(H7:K7) -> 0 | W7: =SUM(M7:V7) -> 0 | AC7: =SUM(X7:AB7) -> 0 | AD7: =SUM(G7,L7,W7,AC7) -> 0 | AE7: =SUM(AD7-'Pre-Test'!AD7) -> 0
A8: 4 | B8: ='Pre-Test'!B8 -> 0 | C8: ='Pre-Test'!C8 -> 0 | D8: ='Pre-Test'!D8 -> 0 | E8: dd/mm/yy | G8: =SUM(F8) -> 0 | L8: =SUM(H8:K8) -> 0 | W8: =SUM(M8:V8) -> 0 | AC8: =SUM(X8:AB8) -> 0 | AD8: =SUM(G8,L8,W8,AC8) -> 0 | AE8: =SUM(AD8-'Pre-Test'!AD8) -> 0
A9: 5 | B9: ='Pre-Test'!B9 -> 0 | C9: ='Pre-Test'!C9 -> 0 | D9: ='Pre-Test'!D9 -> 0 | E9: dd/mm/yy | G9: =SUM(F9) -> 0 | L9: =SUM(H9:K9) -> 0 | W9: =SUM(M9:V9) -> 0 | AC9: =SUM(X9:AB9) -> 0 | AD9: =SUM(G9,L9,W9,AC9) -> 0 | AE9: =SUM(AD9-'Pre-Test'!AD9) -> 0
A10: 6 | B10: ='Pre-Test'!B10 -> 0 | C10: ='Pre-Test'!C10 -> 0 | D10: ='Pre-Test'!D10 -> 0 | E10: dd/mm/yy | G10: =SUM(F10) -> 0 | L10: =SUM(H10:K10) -> 0 | W10: =SUM(M10:V10) -> 0 | AC10: =SUM(X10:AB10) -> 0 | AD10: =SUM(G10,L10,W10,AC10) -> 0 | AE10: =SUM(AD10-'Pre-Test'!AD10) -> 0
A11: 7 | B11: ='Pre-Test'!B11 -> 0 | C11: ='Pre-Test'!C11 -> 0 | D11: ='Pre-Test'!D11 -> 0 | E11: dd/mm/yy | G11: =SUM(F11) -> 0 | L11: =SUM(H11:K11) -> 0 | W11: =SUM(M11:V11) -> 0 | AC11: =SUM(X11:AB11) -> 0 | AD11: =SUM(G11,L11,W11,AC11) -> 0 | AE11: =SUM(AD11-'Pre-Test'!AD11) -> 0
A12: 8 | B12: ='Pre-Test'!B12 -> 0 | C12: ='Pre-Test'!C12 -> 0 | D12: ='Pre-Test'!D12 -> 0 | E12: dd/mm/yy | G12: =SUM(F12) -> 0 | L12: =SUM(H12:K12) -> 0 | W12: =SUM(M12:V12) -> 0 | AC12: =SUM(X12:AB12) -> 0 | AD12: =SUM(G12,L12,W12,AC12) -> 0 | AE12: =SUM(AD12-'Pre-Test'!AD12) -> 0
A13: 9 | B13: ='Pre-Test'!B13 -> 0 | C13: ='Pre-Test'!C13 -> 0 | D13: ='Pre-Test'!D13 -> 0 | E13: dd/mm/yy | G13: =SUM(F13) -> 0 | L13: =SUM(H13:K13) -> 0 | W13: =SUM(M13:V13) -> 0 | AC13: =SUM(X13:AB13) -> 0 | AD13: =SUM(G13,L13,W13,AC13) -> 0 | AE13: =SUM(AD13-'Pre-Test'!AD13) -> 0
A14: 10 | B14: ='Pre-Test'!B14 -> 0 | C14: ='Pre-Test'!C14 -> 0 | D14: ='Pre-Test'!D14 -> 0 | E14: dd/mm/yy | G14: =SUM(F14) -> 0 | L14: =SUM(H14:K14) -> 0 | W14: =SUM(M14:V14) -> 0 | AC14: =SUM(X14:AB14) -> 0 | AD14: =SUM(G14,L14,W14,AC14) -> 0 | AE14: =SUM(AD14-'Pre-Test'!AD14) -> 0
A15: 11 | B15: ='Pre-Test'!B15 -> 0 | C15: ='Pre-Test'!C15 -> 0 | D15: ='Pre-Test'!D15 -> 0 | E15: dd/mm/yy | G15: =SUM(F15) -> 0 | L15: =SUM(H15:K15) -> 0 | W15: =SUM(M15:V15) -> 0 | AC15: =SUM(X15:AB15) -> 0 | AD15: =SUM(G15,L15,W15,AC15) -> 0 | AE15: =SUM(AD15-'Pre-Test'!AD15) -> 0
A16: 12 | B16: ='Pre-Test'!B16 -> 0 | C16: ='Pre-Test'!C16 -> 0 | D16: ='Pre-Test'!D16 -> 0 | E16: dd/mm/yy | G16: =SUM(F16) -> 0 | L16: =SUM(H16:K16) -> 0 | W16: =SUM(M16:V16) -> 0 | AC16: =SUM(X16:AB16) -> 0 | AD16: =SUM(G16,L16,W16,AC16) -> 0 | AE16: =SUM(AD16-'Pre-Test'!AD16) -> 0
... A34: 30 | B34: ='Pre-Test'!B34 -> 0 | C34: ='Pre-Test'!C34 -> 0 | D34: ='Pre-Test'!D34 -> 0 | E34: dd/mm/yy | G34: =SUM(F34) -> 0 | L34: =SUM(H34:K34) -> 0 | W34: =SUM(M34:V34) -> 0 | AC34: =SUM(X34:AB34) -> 0 | AD34: =SUM(G34,L34,W34,AC34) -> 0 | AE34: =SUM(AD34-'Pre-Test'!AD34) -> 0
E35: Cohort Total | F35: =SUM(F5:F34) -> 0 | H35: =SUM(H5:H34) -> 0 | I35: =SUM(I5:I34) -> 0 | J35: =SUM(J5:J34) -> 0 | K35: =SUM(K5:K34) -> 0 | M35: =SUM(M5:M34) -> 0 | N35: =SUM(N5:N34) -> 0 | O35: =SUM(O5:O34) -> 0 | P35: =SUM(P5:P34) -> 0 | Q35: =SUM(Q5:Q34) -> 0 | R35: =SUM(R5:R34) -> 0 | S35: =SUM(S5:S34) -> 0 | T35: =SUM(T5:T34) -> 0 | ... V35: =SUM(V5:V34) -> 0 | X35: =SUM(X5:X34) -> 0 | Y35: =SUM(Y5:Y34) -> 0 | Z35: =SUM(Z5:Z34) -> 0 | AA35: =SUM(AA5:AA34) -> 0 | AB35: =SUM(AB5:AB34) -> 0

Sheet Post Test 2
C1: Western Australian Curriculum 2026 | F1: Foundation | G1: Total | H1: Year 1 | L1: Total | M1: Year 2 | W1: Total | X1: Year 3 | AC1: Total | AD1: Student Total | AE1: Progress Points
C2: Bond Blocks Test: Addition and Subtraction to 20 Post Test 2 Key: Place a 0, 1 or 2 in the cell to indicate the following. Blank = not tested. 0 = Incorrect or no response. 1 = Correct response but not fluent. Includes counting. 2 = Correct, fluent response. To unlock the sheet go to the "Home" tab, the "cells" subsection, "format" and select "unprotect sheet". | F2: 1) Counting Activity | H2: 2) Bonds of 5 | J2: 3) Double and Halve to 10 | K2: 4) Five Plus Bonds | M2: 5) Bonds of 10 | P2: 6) Bonds of 6, 7, 8, 9 | T2: 7) Ten Plus Bonds | X2: 8) Double and Halve to 20 | AA2: 9) Bonds of 11 to 20
F3: □, 8, 9 | H3: 5 - 3 = | I3: □ + 2 = 5 | J3: One half of 6 | K3: 8 - 5 = | M3: □ + 4 = 10 | N3: 10 - 7 = | O3: 10 - □ = 2 | P3: 6 - 4 = | Q3: 7 - 5 = | R3: □ + 5 = 8 | S3: □ - 6 = 3 | T3: 3 + □ = 13 | U3: □ - 6 = 10 | V3: 14 - 8 = | X3: Double 7 | Y3: One half of 16 | Z3: Double 9 | AA3: 13 - 8= | AB3: □ - 7 = 8
A4: # | B4: Surname | C4: First Name | D4: Class | E4: Date | F4: Q1 | G4: x/2 | H4: Q2 | I4: Q3 | J4: Q4 | K4: Q5 | L4: x/8 | M4: Q6 | N4: Q7 | O4: Q8 | P4: Q9 | Q4: Q10 | R4: Q11 | S4: Q12 | T4: Q13 | U4: Q14 | V4: Q15 | W4: x/20 | X4: Q16 | Y4: Q17 | Z4: Q18 | AA4: Q19 | AB4: Q20 | AC4: x/10 | AD4: x/40
A5: 1 | B5: ='Pre-Test'!B5 -> 0 | C5: ='Pre-Test'!C5 -> 0 | D5: ='Pre-Test'!D5 -> 0 | E5: dd/mm/yy | G5: =SUM(F5) -> 0 | L5: =SUM(H5:K5) -> 0 | W5: =SUM(M5:V5) -> 0 | AC5: =SUM(X5:AB5) -> 0 | AD5: =SUM(G5,L5,W5,AC5) -> 0 | AE5: =SUM(AD5-'Post Test 1'!AD5) -> 0
A6: 2 | B6: ='Pre-Test'!B6 -> 0 | C6: ='Pre-Test'!C6 -> 0 | D6: ='Pre-Test'!D6 -> 0 | E6: dd/mm/yy | G6: =SUM(F6) -> 0 | L6: =SUM(H6:K6) -> 0 | W6: =SUM(M6:V6) -> 0 | AC6: =SUM(X6:AB6) -> 0 | AD6: =SUM(G6,L6,W6,AC6) -> 0 | AE6: =SUM(AD6-'Post Test 1'!AD6) -> 0
A7: 3 | B7: ='Pre-Test'!B7 -> 0 | C7: ='Pre-Test'!C7 -> 0 | D7: ='Pre-Test'!D7 -> 0 | E7: dd/mm/yy | G7: =SUM(F7) -> 0 | L7: =SUM(H7:K7) -> 0 | W7: =SUM(M7:V7) -> 0 | AC7: =SUM(X7:AB7) -> 0 | AD7: =SUM(G7,L7,W7,AC7) -> 0 | AE7: =SUM(AD7-'Post Test 1'!AD7) -> 0
A8: 4 | B8: ='Pre-Test'!B8 -> 0 | C8: ='Pre-Test'!C8 -> 0 | D8: ='Pre-Test'!D8 -> 0 | E8: dd/mm/yy | G8: =SUM(F8) -> 0 | L8: =SUM(H8:K8) -> 0 | W8: =SUM(M8:V8) -> 0 | AC8: =SUM(X8:AB8) -> 0 | AD8: =SUM(G8,L8,W8,AC8) -> 0 | AE8: =SUM(AD8-'Post Test 1'!AD8) -> 0
A9: 5 | B9: ='Pre-Test'!B9 -> 0 | C9: ='Pre-Test'!C9 -> 0 | D9: ='Pre-Test'!D9 -> 0 | E9: dd/mm/yy | G9: =SUM(F9) -> 0 | L9: =SUM(H9:K9) -> 0 | W9: =SUM(M9:V9) -> 0 | AC9: =SUM(X9:AB9) -> 0 | AD9: =SUM(G9,L9,W9,AC9) -> 0 | AE9: =SUM(AD9-'Post Test 1'!AD9) -> 0
A10: 6 | B10: ='Pre-Test'!B10 -> 0 | C10: ='Pre-Test'!C10 -> 0 | D10: ='Pre-Test'!D10 -> 0 | E10: dd/mm/yy | G10: =SUM(F10) -> 0 | L10: =SUM(H10:K10) -> 0 | W10: =SUM(M10:V10) -> 0 | AC10: =SUM(X10:AB10) -> 0 | AD10: =SUM(G10,L10,W10,AC10) -> 0 | AE10: =SUM(AD10-'Post Test 1'!AD10) -> 0
A11: 7 | B11: ='Pre-Test'!B11 -> 0 | C11: ='Pre-Test'!C11 -> 0 | D11: ='Pre-Test'!D11 -> 0 | E11: dd/mm/yy | G11: =SUM(F11) -> 0 | L11: =SUM(H11:K11) -> 0 | W11: =SUM(M11:V11) -> 0 | AC11: =SUM(X11:AB11) -> 0 | AD11: =SUM(G11,L11,W11,AC11) -> 0 | AE11: =SUM(AD11-'Post Test 1'!AD11) -> 0
A12: 8 | B12: ='Pre-Test'!B12 -> 0 | C12: ='Pre-Test'!C12 -> 0 | D12: ='Pre-Test'!D12 -> 0 | E12: dd/mm/yy | G12: =SUM(F12) -> 0 | L12: =SUM(H12:K12) -> 0 | W12: =SUM(M12:V12) -> 0 | AC12: =SUM(X12:AB12) -> 0 | AD12: =SUM(G12,L12,W12,AC12) -> 0 | AE12: =SUM(AD12-'Post Test 1'!AD12) -> 0
A13: 9 | B13: ='Pre-Test'!B13 -> 0 | C13: ='Pre-Test'!C13 -> 0 | D13: ='Pre-Test'!D13 -> 0 | E13: dd/mm/yy | G13: =SUM(F13) -> 0 | L13: =SUM(H13:K13) -> 0 | W13: =SUM(M13:V13) -> 0 | AC13: =SUM(X13:AB13) -> 0 | AD13: =SUM(G13,L13,W13,AC13) -> 0 | AE13: =SUM(AD13-'Post Test 1'!AD13) -> 0
A14: 10 | B14: ='Pre-Test'!B14 -> 0 | C14: ='Pre-Test'!C14 -> 0 | D14: ='Pre-Test'!D14 -> 0 | E14: dd/mm/yy | G14: =SUM(F14) -> 0 | L14: =SUM(H14:K14) -> 0 | W14: =SUM(M14:V14) -> 0 | AC14: =SUM(X14:AB14) -> 0 | AD14: =SUM(G14,L14,W14,AC14) -> 0 | AE14: =SUM(AD14-'Post Test 1'!AD14) -> 0
A15: 11 | B15: ='Pre-Test'!B15 -> 0 | C15: ='Pre-Test'!C15 -> 0 | D15: ='Pre-Test'!D15 -> 0 | E15: dd/mm/yy | G15: =SUM(F15) -> 0 | L15: =SUM(H15:K15) -> 0 | W15: =SUM(M15:V15) -> 0 | AC15: =SUM(X15:AB15) -> 0 | AD15: =SUM(G15,L15,W15,AC15) -> 0 | AE15: =SUM(AD15-'Post Test 1'!AD15) -> 0
A16: 12 | B16: ='Pre-Test'!B16 -> 0 | C16: ='Pre-Test'!C16 -> 0 | D16: ='Pre-Test'!D16 -> 0 | E16: dd/mm/yy | G16: =SUM(F16) -> 0 | L16: =SUM(H16:K16) -> 0 | W16: =SUM(M16:V16) -> 0 | AC16: =SUM(X16:AB16) -> 0 | AD16: =SUM(G16,L16,W16,AC16) -> 0 | AE16: =SUM(AD16-'Post Test 1'!AD16) -> 0
... A34: 30 | B34: ='Pre-Test'!B34 -> 0 | C34: ='Pre-Test'!C34 -> 0 | D34: ='Pre-Test'!D34 -> 0 | E34: dd/mm/yy | G34: =SUM(F34) -> 0 | L34: =SUM(H34:K34) -> 0 | W34: =SUM(M34:V34) -> 0 | AC34: =SUM(X34:AB34) -> 0 | AD34: =SUM(G34,L34,W34,AC34) -> 0 | AE34: =SUM(AD34-'Post Test 1'!AD34) -> 0
E35: Cohort Total | F35: =SUM(F5:F34) -> 0 | H35: =SUM(H5:H34) -> 0 | I35: =SUM(I5:I34) -> 0 | J35: =SUM(J5:J34) -> 0 | K35: =SUM(K5:K34) -> 0 | M35: =SUM(M5:M34) -> 0 | N35: =SUM(N5:N34) -> 0 | O35: =SUM(O5:O34) -> 0 | P35: =SUM(P5:P34) -> 0 | Q35: =SUM(Q5:Q34) -> 0 | R35: =SUM(R5:R34) -> 0 | S35: =SUM(S5:S34) -> 0 | T35: =SUM(T5:T34) -> 0 | ... V35: =SUM(V5:V34) -> 0 | X35: =SUM(X5:X34) -> 0 | Y35: =SUM(Y5:Y34) -> 0 | Z35: =SUM(Z5:Z34) -> 0 | AA35: =SUM(AA5:AA34) -> 0 | AB35: =SUM(AB5:AB34) -> 0

Sheet Post Test 3
C1: Western Australian Curriculum 2026 | F1: Foundation | G1: Total | H1: Year 1 | L1: Total | M1: Year 2 | W1: Total | X1: Year 3 | AC1: Total | AD1: Student Total | AE1: Progress Points
C2: Bond Blocks Test: Addition and Subtraction to 20 Post Test 3 Key: Place a 0, 1 or 2 in the cell to indicate the following. Blank = not tested. 0 = Incorrect or no response. 1 = Correct response but not fluent. Includes counting. 2 = Correct, fluent response. To unlock the sheet go to the "Home" tab, the "cells" subsection, "format" and select "unprotect sheet". | F2: 1) Counting Activity | H2: 2) Bonds of 5 | J2: 3) Double and Halve to 10 | K2: 4) Five Plus Bonds | M2: 5) Bonds of 10 | P2: 6) Bonds of 6, 7, 8, 9 | T2: 7) Ten Plus Bonds | X2: 8) Double and Halve to 20 | AA2: 9) Bonds of 11 to 20
F3: □, 8, 9 | H3: 5 - 3 = | I3: □ + 2 = 5 | J3: One half of 6 | K3: 8 - 5 = | M3: □ + 4 = 10 | N3: 10 - 7 = | O3: 10 - □ = 2 | P3: 6 - 4 = | Q3: 7 - 5 = | R3: □ + 5 = 8 | S3: □ - 6 = 3 | T3: 3 + □ = 13 | U3: □ - 6 = 10 | V3: 14 - 8 = | X3: Double 7 | Y3: One half of 16 | Z3: Double 9 | AA3: 13 - 8= | AB3: □ - 7 = 8
A4: # | B4: Surname | C4: First Name | D4: Class | E4: Date | F4: Q1 | G4: x/2 | H4: Q2 | I4: Q3 | J4: Q4 | K4: Q5 | L4: x/8 | M4: Q6 | N4: Q7 | O4: Q8 | P4: Q9 | Q4: Q10 | R4: Q11 | S4: Q12 | T4: Q13 | U4: Q14 | V4: Q15 | W4: x/20 | X4: Q16 | Y4: Q17 | Z4: Q18 | AA4: Q19 | AB4: Q20 | AC4: x/10 | AD4: x/40
A5: 1 | B5: ='Pre-Test'!B5 -> 0 | C5: ='Pre-Test'!C5 -> 0 | D5: ='Pre-Test'!D5 -> 0 | E5: dd/mm/yy | G5: =SUM(F5) -> 0 | L5: =SUM(H5:K5) -> 0 | W5: =SUM(M5:V5) -> 0 | AC5: =SUM(X5:AB5) -> 0 | AD5: =SUM(G5,L5,W5,AC5) -> 0 | AE5: =SUM(AD5-'Post Test 2'!AD5) -> 0
A6: 2 | B6: ='Pre-Test'!B6 -> 0 | C6: ='Pre-Test'!C6 -> 0 | D6: ='Pre-Test'!D6 -> 0 | E6: dd/mm/yy | G6: =SUM(F6) -> 0 | L6: =SUM(H6:K6) -> 0 | W6: =SUM(M6:V6) -> 0 | AC6: =SUM(X6:AB6) -> 0 | AD6: =SUM(G6,L6,W6,AC6) -> 0 | AE6: =SUM(AD6-'Post Test 2'!AD6) -> 0
A7: 3 | B7: ='Pre-Test'!B7 -> 0 | C7: ='Pre-Test'!C7 -> 0 | D7: ='Pre-Test'!D7 -> 0 | E7: dd/mm/yy | G7: =SUM(F7) -> 0 | L7: =SUM(H7:K7) -> 0 | W7: =SUM(M7:V7) -> 0 | AC7: =SUM(X7:AB7) -> 0 | AD7: =SUM(G7,L7,W7,AC7) -> 0 | AE7: =SUM(AD7-'Post Test 2'!AD7) -> 0
A8: 4 | B8: ='Pre-Test'!B8 -> 0 | C8: ='Pre-Test'!C8 -> 0 | D8: ='Pre-Test'!D8 -> 0 | E8: dd/mm/yy | G8: =SUM(F8) -> 0 | L8: =SUM(H8:K8) -> 0 | W8: =SUM(M8:V8) -> 0 | AC8: =SUM(X8:AB8) -> 0 | AD8: =SUM(G8,L8,W8,AC8) -> 0 | AE8: =SUM(AD8-'Post Test 2'!AD8) -> 0
A9: 5 | B9: ='Pre-Test'!B9 -> 0 | C9: ='Pre-Test'!C9 -> 0 | D9: ='Pre-Test'!D9 -> 0 | E9: dd/mm/yy | G9: =SUM(F9) -> 0 | L9: =SUM(H9:K9) -> 0 | W9: =SUM(M9:V9) -> 0 | AC9: =SUM(X9:AB9) -> 0 | AD9: =SUM(G9,L9,W9,AC9) -> 0 | AE9: =SUM(AD9-'Post Test 2'!AD9) -> 0
A10: 6 | B10: ='Pre-Test'!B10 -> 0 | C10: ='Pre-Test'!C10 -> 0 | D10: ='Pre-Test'!D10 -> 0 | E10: dd/mm/yy | G10: =SUM(F10) -> 0 | L10: =SUM(H10:K10) -> 0 | W10: =SUM(M10:V10) -> 0 | AC10: =SUM(X10:AB10) -> 0 | AD10: =SUM(G10,L10,W10,AC10) -> 0 | AE10: =SUM(AD10-'Post Test 2'!AD10) -> 0
A11: 7 | B11: ='Pre-Test'!B11 -> 0 | C11: ='Pre-Test'!C11 -> 0 | D11: ='Pre-Test'!D11 -> 0 | E11: dd/mm/yy | G11: =SUM(F11) -> 0 | L11: =SUM(H11:K11) -> 0 | W11: =SUM(M11:V11) -> 0 | AC11: =SUM(X11:AB11) -> 0 | AD11: =SUM(G11,L11,W11,AC11) -> 0 | AE11: =SUM(AD11-'Post Test 2'!AD11) -> 0
A12: 8 | B12: ='Pre-Test'!B12 -> 0 | C12: ='Pre-Test'!C12 -> 0 | D12: ='Pre-Test'!D12 -> 0 | E12: dd/mm/yy | G12: =SUM(F12) -> 0 | L12: =SUM(H12:K12) -> 0 | W12: =SUM(M12:V12) -> 0 | AC12: =SUM(X12:AB12) -> 0 | AD12: =SUM(G12,L12,W12,AC12) -> 0 | AE12: =SUM(AD12-'Post Test 2'!AD12) -> 0
A13: 9 | B13: ='Pre-Test'!B13 -> 0 | C13: ='Pre-Test'!C13 -> 0 | D13: ='Pre-Test'!D13 -> 0 | E13: dd/mm/yy | G13: =SUM(F13) -> 0 | L13: =SUM(H13:K13) -> 0 | W13: =SUM(M13:V13) -> 0 | AC13: =SUM(X13:AB13) -> 0 | AD13: =SUM(G13,L13,W13,AC13) -> 0 | AE13: =SUM(AD13-'Post Test 2'!AD13) -> 0
A14: 10 | B14: ='Pre-Test'!B14 -> 0 | C14: ='Pre-Test'!C14 -> 0 | D14: ='Pre-Test'!D14 -> 0 | E14: dd/mm/yy | G14: =SUM(F14) -> 0 | L14: =SUM(H14:K14) -> 0 | W14: =SUM(M14:V14) -> 0 | AC14: =SUM(X14:AB14) -> 0 | AD14: =SUM(G14,L14,W14,AC14) -> 0 | AE14: =SUM(AD14-'Post Test 2'!AD14) -> 0
A15: 11 | B15: ='Pre-Test'!B15 -> 0 | C15: ='Pre-Test'!C15 -> 0 | D15: ='Pre-Test'!D15 -> 0 | E15: dd/mm/yy | G15: =SUM(F15) -> 0 | L15: =SUM(H15:K15) -> 0 | W15: =SUM(M15:V15) -> 0 | AC15: =SUM(X15:AB15) -> 0 | AD15: =SUM(G15,L15,W15,AC15) -> 0 | AE15: =SUM(AD15-'Post Test 2'!AD15) -> 0
A16: 12 | B16: ='Pre-Test'!B16 -> 0 | C16: ='Pre-Test'!C16 -> 0 | D16: ='Pre-Test'!D16 -> 0 | E16: dd/mm/yy | G16: =SUM(F16) -> 0 | L16: =SUM(H16:K16) -> 0 | W16: =SUM(M16:V16) -> 0 | AC16: =SUM(X16:AB16) -> 0 | AD16: =SUM(G16,L16,W16,AC16) -> 0 | AE16: =SUM(AD16-'Post Test 2'!AD16) -> 0
... A34: 30 | B34: ='Pre-Test'!B34 -> 0 | C34: ='Pre-Test'!C34 -> 0 | D34: ='Pre-Test'!D34 -> 0 | E34: dd/mm/yy | G34: =SUM(F34) -> 0 | L34: =SUM(H34:K34) -> 0 | W34: =SUM(M34:V34) -> 0 | AC34: =SUM(X34:AB34) -> 0 | AD34: =SUM(G34,L34,W34,AC34) -> 0 | AE34: =SUM(AD34-'Post Test 2'!AD34) -> 0
E35: Cohort Total | F35: =SUM(F5:F34) -> 0 | H35: =SUM(H5:H34) -> 0 | I35: =SUM(I5:I34) -> 0 | J35: =SUM(J5:J34) -> 0 | K35: =SUM(K5:K34) -> 0 | M35: =SUM(M5:M34) -> 0 | N35: =SUM(N5:N34) -> 0 | O35: =SUM(O5:O34) -> 0 | P35: =SUM(P5:P34) -> 0 | Q35: =SUM(Q5:Q34) -> 0 | R35: =SUM(R5:R34) -> 0 | S35: =SUM(S5:S34) -> 0 | T35: =SUM(T5:T34) -> 0 | ... V35: =SUM(V5:V34) -> 0 | X35: =SUM(X5:X34) -> 0 | Y35: =SUM(Y5:Y34) -> 0 | Z35: =SUM(Z5:Z34) -> 0 | AA35: =SUM(AA5:AA34) -> 0 | AB35: =SUM(AB5:AB34) -> 0
