Workbook

Sheet Counting Forwards 1 to 10
C1: Monitoring Sheet for a Class (Tier 1 Teaching) | E1: Core - Term 1
E2: Counting Forwards 1 to 10 | P2: Comments
A3: Enter names on the worksheet 'Counting Forwards 1 to 10'. This will auto-populate in other sheets. End of Activity Achievement At the end of each activity (week) make a record of students who required follow up. Enter: • 0 (red) for students who required significant support. • 2 (green) for students who found the Core activity easy and required extension. • 'A' for students who were absent for the week. End of Chapter Achievement Record student achievement, at the end of each chapter, for each student using: • 0 (red) if the student required significant support, • 1 (orange) if they required some support or, • 2 (green) if they completed it independently. | E3: Starting at One: Using Cubes | F3: Starting at One | G3: With a Missing Number | H3: Number Track | I3: From Any Number | J3: Number After: Steps | K3: Number After: Number Track | L3: Locate Numbers: Number Line | M3: Number After: Number Line | N3: Fluency Ordering | O3: ACHIEVEMENT
B4: Surname | C4: First Name | D4: Class/Group | E4: 1 | F4: 2 | G4: 3 | H4: 4 | I4: 5 | J4: 6 | K4: 7 | L4: 8 | M4: 9 | N4: 10
A6: 1
A7: 2
A8: 3
A9: 4
A10: 5
A11: 6
A12: 7
A13: 8
A14: 9
A15: 10
A16: 11
A17: 12
... A35: 30
A36: To unlock the sheet go to the "Home" tab, the "cells" subsection, "format" and select "unprotect sheet".

Sheet Counting Backwards 10 to 1
C1: Monitoring Sheet for a Class (Tier 1 Teaching) | E1: Core - Term 2
E2: Counting Backwards 10 to 1 | O2: Comments
A3: Enter names on the worksheet 'Counting Forwards 1 to 10'. This will auto-populate in other sheets. End of Activity Achievement At the end of each activity (week) make a record of students who required follow up. Enter: • 0 (red) for students who required significant support. • 2 (green) for students who found the Core activity easy and required extension. • 'A' for students who were absent for the week. End of Chapter Achievement Record student achievement, at the end of each chapter, for each student using: • 0 (red) if the student required significant support, • 1 (orange) if they required some support or, • 2 (green) if they completed it independently. | E3: Starting at Ten | F3: With a Missing Number | G3: Number Track | H3: From Any Number | I3: Number Before: Steps | J3: Number Before: Number Track | K3: Locate Numbers: Number Line | L3: Number Before: Number Line | M3: Fluency Ordering | N3: ACHIEVEMENT
B4: Surname | C4: First Name | D4: Class/Group | E4: 11 | F4: 12 | G4: 13 | H4: 14 | I4: 15 | J4: 16 | K4: 17 | L4: 18 | M4: 19
A6: 1 | B6: ='Counting Forwards 1 to 10'!B6 -> 0 | C6: ='Counting Forwards 1 to 10'!C6 -> 0 | D6: ='Counting Forwards 1 to 10'!D6 -> 0
A7: 2 | B7: ='Counting Forwards 1 to 10'!B7 -> 0 | C7: ='Counting Forwards 1 to 10'!C7 -> 0 | D7: ='Counting Forwards 1 to 10'!D7 -> 0
A8: 3 | B8: ='Counting Forwards 1 to 10'!B8 -> 0 | C8: ='Counting Forwards 1 to 10'!C8 -> 0 | D8: ='Counting Forwards 1 to 10'!D8 -> 0
A9: 4 | B9: ='Counting Forwards 1 to 10'!B9 -> 0 | C9: ='Counting Forwards 1 to 10'!C9 -> 0 | D9: ='Counting Forwards 1 to 10'!D9 -> 0
A10: 5 | B10: ='Counting Forwards 1 to 10'!B10 -> 0 | C10: ='Counting Forwards 1 to 10'!C10 -> 0 | D10: ='Counting Forwards 1 to 10'!D10 -> 0
A11: 6 | B11: ='Counting Forwards 1 to 10'!B11 -> 0 | C11: ='Counting Forwards 1 to 10'!C11 -> 0 | D11: ='Counting Forwards 1 to 10'!D11 -> 0
A12: 7 | B12: ='Counting Forwards 1 to 10'!B12 -> 0 | C12: ='Counting Forwards 1 to 10'!C12 -> 0 | D12: ='Counting Forwards 1 to 10'!D12 -> 0
A13: 8 | B13: ='Counting Forwards 1 to 10'!B13 -> 0 | C13: ='Counting Forwards 1 to 10'!C13 -> 0 | D13: ='Counting Forwards 1 to 10'!D13 -> 0
A14: 9 | B14: ='Counting Forwards 1 to 10'!B14 -> 0 | C14: ='Counting Forwards 1 to 10'!C14 -> 0 | D14: ='Counting Forwards 1 to 10'!D14 -> 0
A15: 10 | B15: ='Counting Forwards 1 to 10'!B15 -> 0 | C15: ='Counting Forwards 1 to 10'!C15 -> 0 | D15: ='Counting Forwards 1 to 10'!D15 -> 0
A16: 11 | B16: ='Counting Forwards 1 to 10'!B16 -> 0 | C16: ='Counting Forwards 1 to 10'!C16 -> 0 | D16: ='Counting Forwards 1 to 10'!D16 -> 0
A17: 12 | B17: ='Counting Forwards 1 to 10'!B17 -> 0 | C17: ='Counting Forwards 1 to 10'!C17 -> 0 | D17: ='Counting Forwards 1 to 10'!D17 -> 0
... A35: 30 | B35: ='Counting Forwards 1 to 10'!B35 -> 0 | C35: ='Counting Forwards 1 to 10'!C35 -> 0 | D35: ='Counting Forwards 1 to 10'!D35 -> 0
A36: To unlock the sheet go to the "Home" tab, the "cells" subsection, "format" and select "unprotect sheet".

Sheet Counting Forwards 10 to 20
C1: Monitoring Sheet for a Class (Tier 1 Teaching) | E1: Core - Term 3
E2: Counting Forwards 10 to 20 | Q2: Comments
A3: Enter names on the worksheet 'Counting Forwards 1 to 10'. This will auto-populate in other sheets. End of Activity Achievement At the end of each activity (week) make a record of students who required follow up. Enter: • 0 (red) for students who required significant support. • 2 (green) for students who found the Core activity easy and required extension. • 'A' for students who were absent for the week. End of Chapter Achievement Record student achievement, at the end of each chapter, for each student using: • 0 (red) if the student required significant support, • 1 (orange) if they required some support or, • 2 (green) if they completed it independently. | E3: Starting at Ten: Using Cubes | F3: Starting at Ten: Using Words | G3: Starting at Ten: Using Numbers | H3: With a Missing Number | I3: Number Track | J3: From Any Number | K3: Number After: Steps | L3: Number After: Number Track | M3: Locate Numbers: Number Line | N3: Number After: Number Line | O3: Fluency Ordering | P3: ACHIEVEMENT
B4: Surname | C4: First Name | D4: Class/Group | E4: 20 | F4: 21 | G4: 22 | H4: 23 | I4: 24 | J4: 25 | K4: 26 | L4: 27 | M4: 28 | N4: 29 | O4: 30
A6: 1 | B6: ='Counting Forwards 1 to 10'!B6 -> 0 | C6: ='Counting Forwards 1 to 10'!C6 -> 0 | D6: ='Counting Forwards 1 to 10'!D6 -> 0
A7: 2 | B7: ='Counting Forwards 1 to 10'!B7 -> 0 | C7: ='Counting Forwards 1 to 10'!C7 -> 0 | D7: ='Counting Forwards 1 to 10'!D7 -> 0
A8: 3 | B8: ='Counting Forwards 1 to 10'!B8 -> 0 | C8: ='Counting Forwards 1 to 10'!C8 -> 0 | D8: ='Counting Forwards 1 to 10'!D8 -> 0
A9: 4 | B9: ='Counting Forwards 1 to 10'!B9 -> 0 | C9: ='Counting Forwards 1 to 10'!C9 -> 0 | D9: ='Counting Forwards 1 to 10'!D9 -> 0
A10: 5 | B10: ='Counting Forwards 1 to 10'!B10 -> 0 | C10: ='Counting Forwards 1 to 10'!C10 -> 0 | D10: ='Counting Forwards 1 to 10'!D10 -> 0
A11: 6 | B11: ='Counting Forwards 1 to 10'!B11 -> 0 | C11: ='Counting Forwards 1 to 10'!C11 -> 0 | D11: ='Counting Forwards 1 to 10'!D11 -> 0
A12: 7 | B12: ='Counting Forwards 1 to 10'!B12 -> 0 | C12: ='Counting Forwards 1 to 10'!C12 -> 0 | D12: ='Counting Forwards 1 to 10'!D12 -> 0
A13: 8 | B13: ='Counting Forwards 1 to 10'!B13 -> 0 | C13: ='Counting Forwards 1 to 10'!C13 -> 0 | D13: ='Counting Forwards 1 to 10'!D13 -> 0
A14: 9 | B14: ='Counting Forwards 1 to 10'!B14 -> 0 | C14: ='Counting Forwards 1 to 10'!C14 -> 0 | D14: ='Counting Forwards 1 to 10'!D14 -> 0
A15: 10 | B15: ='Counting Forwards 1 to 10'!B15 -> 0 | C15: ='Counting Forwards 1 to 10'!C15 -> 0 | D15: ='Counting Forwards 1 to 10'!D15 -> 0
A16: 11 | B16: ='Counting Forwards 1 to 10'!B16 -> 0 | C16: ='Counting Forwards 1 to 10'!C16 -> 0 | D16: ='Counting Forwards 1 to 10'!D16 -> 0
A17: 12 | B17: ='Counting Forwards 1 to 10'!B17 -> 0 | C17: ='Counting Forwards 1 to 10'!C17 -> 0 | D17: ='Counting Forwards 1 to 10'!D17 -> 0
... A35: 30 | B35: ='Counting Forwards 1 to 10'!B35 -> 0 | C35: ='Counting Forwards 1 to 10'!C35 -> 0 | D35: ='Counting Forwards 1 to 10'!D35 -> 0
A36: To unlock the sheet go to the "Home" tab, the "cells" subsection, "format" and select "unprotect sheet".

Sheet Counting Backwards 20 to 10
C1: Monitoring Sheet for a Class (Tier 1 Teaching) | E1: Core - Term 4
E2: Counting Backwards 20 to 10 | P2: Comments
A3: Enter names on the worksheet 'Counting Forwards 1 to 10'. This will auto-populate in other sheets. End of Activity Achievement At the end of each activity (week) make a record of students who required follow up. Enter: • 0 (red) for students who required significant support. • 2 (green) for students who found the Core activity easy and required extension. • 'A' for students who were absent for the week. End of Chapter Achievement Record student achievement, at the end of each chapter, for each student using: • 0 (red) if the student required significant support, • 1 (orange) if they required some support or, • 2 (green) if they completed it independently. | E3: Starting at Ten: Using Cubes | F3: Starting at Ten: Using Words | G3: Starting at Ten: Using Numbers | H3: With a Missing Number | I3: Number Track | J3: From Any Number | K3: Number After: Steps | L3: Number After: Number Track | M3: Locate Numbers: Number Line | N3: Number After: Number Line | O3: ACHIEVEMENT
B4: Surname | C4: First Name | D4: Class/Group | E4: 31 | F4: 32 | G4: 33 | H4: 34 | I4: 35 | J4: 36 | K4: 37 | L4: 38 | M4: 39 | N4: 40
A6: 1 | B6: ='Counting Forwards 1 to 10'!B6 -> 0 | C6: ='Counting Forwards 1 to 10'!C6 -> 0 | D6: ='Counting Forwards 1 to 10'!D6 -> 0
A7: 2 | B7: ='Counting Forwards 1 to 10'!B7 -> 0 | C7: ='Counting Forwards 1 to 10'!C7 -> 0 | D7: ='Counting Forwards 1 to 10'!D7 -> 0
A8: 3 | B8: ='Counting Forwards 1 to 10'!B8 -> 0 | C8: ='Counting Forwards 1 to 10'!C8 -> 0 | D8: ='Counting Forwards 1 to 10'!D8 -> 0
A9: 4 | B9: ='Counting Forwards 1 to 10'!B9 -> 0 | C9: ='Counting Forwards 1 to 10'!C9 -> 0 | D9: ='Counting Forwards 1 to 10'!D9 -> 0
A10: 5 | B10: ='Counting Forwards 1 to 10'!B10 -> 0 | C10: ='Counting Forwards 1 to 10'!C10 -> 0 | D10: ='Counting Forwards 1 to 10'!D10 -> 0
A11: 6 | B11: ='Counting Forwards 1 to 10'!B11 -> 0 | C11: ='Counting Forwards 1 to 10'!C11 -> 0 | D11: ='Counting Forwards 1 to 10'!D11 -> 0
A12: 7 | B12: ='Counting Forwards 1 to 10'!B12 -> 0 | C12: ='Counting Forwards 1 to 10'!C12 -> 0 | D12: ='Counting Forwards 1 to 10'!D12 -> 0
A13: 8 | B13: ='Counting Forwards 1 to 10'!B13 -> 0 | C13: ='Counting Forwards 1 to 10'!C13 -> 0 | D13: ='Counting Forwards 1 to 10'!D13 -> 0
A14: 9 | B14: ='Counting Forwards 1 to 10'!B14 -> 0 | C14: ='Counting Forwards 1 to 10'!C14 -> 0 | D14: ='Counting Forwards 1 to 10'!D14 -> 0
A15: 10 | B15: ='Counting Forwards 1 to 10'!B15 -> 0 | C15: ='Counting Forwards 1 to 10'!C15 -> 0 | D15: ='Counting Forwards 1 to 10'!D15 -> 0
A16: 11 | B16: ='Counting Forwards 1 to 10'!B16 -> 0 | C16: ='Counting Forwards 1 to 10'!C16 -> 0 | D16: ='Counting Forwards 1 to 10'!D16 -> 0
A17: 12 | B17: ='Counting Forwards 1 to 10'!B17 -> 0 | C17: ='Counting Forwards 1 to 10'!C17 -> 0 | D17: ='Counting Forwards 1 to 10'!D17 -> 0
... A35: 30 | B35: ='Counting Forwards 1 to 10'!B35 -> 0 | C35: ='Counting Forwards 1 to 10'!C35 -> 0 | D35: ='Counting Forwards 1 to 10'!D35 -> 0
A36: To unlock the sheet go to the "Home" tab, the "cells" subsection, "format" and select "unprotect sheet".

Sheet A LITTLE EASIER 1 to 5
C1: Monitoring Sheet for a Class (Tier 1 Teaching) | E1: A Little Easier
E2: Counting Forwards 1 to 5 | L2: Comments
A3: End of Activity Achievement Record student achievement, at the end of each activity, for each student using: • 0 (red) if the student required significant support, • 1 (orange) if they required some support or, • 2 (green) if they completed it independently. • 'A' for students who were absent for the week. End of Chapter Achievement Record student achievement, at the end of each chapter, for each student using: • 0 (red) if the student required significant support, • 1 (orange) if they required some support or, • 2 (green) if they completed it independently. | E3: Starting at One: Using Cubes (a little easier) | F3: Starting at One (a little easier) | G3: With a Missing Number (a little easier) | H3: Number Track (a little easier) | I3: Locate Numbers: Number Line (a little easier) | J3: Fluency Ordering (a little easier) | K3: ACHIEVEMENT
B4: Surname | C4: First Name | D4: Class/Group | E4: 1* | F4: 2* | G4: 3* | H4: 4* | I4: 8* | J4: 10*
A6: 1
A7: 2
A8: 3
A9: 4
A10: 5
A11: 6
A12: 7
A13: 8
A14: 9
A15: 10
A16: 11
A17: 12
... A35: 30
A36: To unlock the sheet go to the "Home" tab, the "cells" subsection, "format" and select "unprotect sheet".

Sheet Bond_Blocks_Year_2
E1: Year 2 - Term 1 | P1: Year 2 - Term 2 | Y1: Year 2 - Term 3 | AI1: Year 2 - Term 4
C2: Monitoring Sheet for a Class (Tier 1 Teaching) Year 2 | E2: Chapter 7) Ten Plus Bonds (Bonds to 20) | P2: Chapter 6) Bonds of 6, 7, 8, 9 | Y2: Chapter 8) Doubling and Halving to 20 | AI2: Chapter 7) Ten Plus Bonds (Bridging Ten)
A3: End of Activity Achievement Do not record achievement for every student, after every activity. At the end of each activity (week) only make a record of students who • 0 (red) required significant support. • 2 (green) found the Core activity easy and required extension. • 'A' were absent for the week. The remaining students will have an empty cell after each activity, indicating they achieved it satisfactorily. End of Chapter Achievement Record student achievement, at the end of each chapter, for each student using: • 0 (red) if the student required significant support, • 1 (orange) if they required some support or, • 2 (green) if they completed it independently. | E3: Bonds: Three In a Row | F3: Bonds: Multiple Representations | G3: Bonds: Place Value Partitioning | H3: Addition and Subtraction: Ten and One | I3: Addition: Building With Three Parts | J3: Equation: Building | K3: Addition: Building a Wall | L3: Subtraction: Tic-Tac-Toe | M3: Missing Number Equations: Tic-Tac-Toe | N3: Missing Number Equations: Tic-Tac-Toe (a little harder) | O3: ACHIEVEMENT | P3: Bonds: Building a Wall (Section 1) | Q3: Subtraction: Building a Wall (Section 1) | R3: Fluency: Shake and Spill | S3: Subtraction: Building a Wall (Section 2) | T3: Fluency: Racing Monster Trucks | U3: Equation: Building | V3: Missing Number Equations: Tic-Tac-Toe | W3: Word Problems: Wholes to 10 | X3: ACHIEVEMENT | Y3: Bonds: Building a Wall (Section 1) | Z3: Bonds: Building a Wall (Section 2) | AA3: Fluency Doubles: Filling a Wall | AB3: Fluency Halves: Filling a Wall | AC3: Fluency Doubles: Racing Kayaks | AD3: Fluency Halves: Racing Snowboards | AE3: Near Double : Strategy Concept | AF3: Near Double : Strategy Concept (a little harder) | AG3: Near Double: Strategy Fluency | AH3: ACHIEVEMENT | AI3: Bridging Ten Addition: Strategy 9+ | AJ3: Bridging Ten Addition: Strategy 9+ (a little harder) | AK3: Bridging Ten Addition: Strategy 8+ | AL3: Bridging Ten Addition: Strategy 18+ (a little harder) | AM3: Bridging Ten Addition: Strategy 7, 8, 9+ | AN3: Bridging Ten Addition: Strategy Teen+ (a little harder) | AO3: ACHIEVEMENT
B4: Surname | C4: First Name | D4: Class/Group | E4: 41 | F4: 42 | G4: 43 | H4: 44 | I4: 45 | J4: 46.1 / 46.2 | K4: 47 | L4: 48.1 / 48.2 | M4: 49 | N4: 49* | P4: 34 | Q4: 35.1 | R4: 36 | S4: 35.2 | T4: 37 | U4: 38 | V4: 39 | W4: 40 | Y4: 57.1 | Z4: 57.2 | AA4: 58 | AB4: 59 | AC4: 60 | AD4: 61 | AE4: 62 | AF4: 62 | AG4: 63 | AI4: 50 | AJ4: 50* | AK4: 51 | AL4: 51* | AM4: 52 | AN4: 52*
E5: 8 min | F5: 8 min | G5: 8 min | H5: 8 min | I5: 8 min | J5: 40 min | K5: 8 min | L5: 8 min | M5: 8 min | P5: 40 min | Q5: 20 min | R5: 8 min | S5: 8 min | T5: 8 min | U5: 20 min | V5: 8 min | W5: 40 min | Y5: 20 min | Z5: 20 min | AA5: 8 min | AB5: 8 min | AC5: 8 min | AD5: 8 min | AE5: 20 min | AG5: 8 min | AI5: 8 min | AJ5: 8 min | AK5: 8 min | AL5: 8 min | AM5: 8 min | AN5: 8 min
A6: 1 | B6: ='Counting Forwards 1 to 10'!B6 -> 0 | C6: ='Counting Forwards 1 to 10'!C6 -> 0 | D6: ='Counting Forwards 1 to 10'!D6 -> 0
A7: 2 | B7: ='Counting Forwards 1 to 10'!B7 -> 0 | C7: ='Counting Forwards 1 to 10'!C7 -> 0 | D7: ='Counting Forwards 1 to 10'!D7 -> 0
A8: 3 | B8: ='Counting Forwards 1 to 10'!B8 -> 0 | C8: ='Counting Forwards 1 to 10'!C8 -> 0 | D8: ='Counting Forwards 1 to 10'!D8 -> 0
A9: 4 | B9: ='Counting Forwards 1 to 10'!B9 -> 0 | C9: ='Counting Forwards 1 to 10'!C9 -> 0 | D9: ='Counting Forwards 1 to 10'!D9 -> 0
A10: 5 | B10: ='Counting Forwards 1 to 10'!B10 -> 0 | C10: ='Counting Forwards 1 to 10'!C10 -> 0 | D10: ='Counting Forwards 1 to 10'!D10 -> 0
A11: 6 | B11: ='Counting Forwards 1 to 10'!B11 -> 0 | C11: ='Counting Forwards 1 to 10'!C11 -> 0 | D11: ='Counting Forwards 1 to 10'!D11 -> 0
A12: 7 | B12: ='Counting Forwards 1 to 10'!B12 -> 0 | C12: ='Counting Forwards 1 to 10'!C12 -> 0 | D12: ='Counting Forwards 1 to 10'!D12 -> 0
A13: 8 | B13: ='Counting Forwards 1 to 10'!B13 -> 0 | C13: ='Counting Forwards 1 to 10'!C13 -> 0 | D13: ='Counting Forwards 1 to 10'!D13 -> 0
A14: 9 | B14: ='Counting Forwards 1 to 10'!B14 -> 0 | C14: ='Counting Forwards 1 to 10'!C14 -> 0 | D14: ='Counting Forwards 1 to 10'!D14 -> 0
A15: 10 | B15: ='Counting Forwards 1 to 10'!B15 -> 0 | C15: ='Counting Forwards 1 to 10'!C15 -> 0 | D15: ='Counting Forwards 1 to 10'!D15 -> 0
A16: 11 | B16: ='Counting Forwards 1 to 10'!B16 -> 0 | C16: ='Counting Forwards 1 to 10'!C16 -> 0 | D16: ='Counting Forwards 1 to 10'!D16 -> 0
A17: 12 | B17: ='Counting Forwards 1 to 10'!B17 -> 0 | C17: ='Counting Forwards 1 to 10'!C17 -> 0 | D17: ='Counting Forwards 1 to 10'!D17 -> 0
... A35: 30 | B35: ='Counting Forwards 1 to 10'!B35 -> 0 | C35: ='Counting Forwards 1 to 10'!C35 -> 0 | D35: ='Counting Forwards 1 to 10'!D35 -> 0
A36: Note, shaded rows are not core activities. They are either “a little easier” or “a little harder”. These activities will only be completed by some students at the discretion of the teacher. Boards with ".1" or ".2" next to the main number represent related boards that share the same number. These are both core activity boards but contain different sections. To unlock the sheet go to the "Home" tab, the "cells" subsection, "format" and select "unprotect sheet".
